BEGIN:VCALENDAR
VERSION:2.0
PRODID:-//Cairngorm Club//EN
BEGIN:VEVENT
UID:cc-open-evening-20260526@cairngormclub.org.uk
DTSTAMP:20260421T120000Z
SUMMARY:Cairngorm Club open evening
DESCRIPTION:Meet the Cairngorm Club - talks on our activities\, refreshments\, and an opportunity to chat about outdoor adventures.\nMap: https://maps.app.goo.gl/RuvoB34rysbt3DLj9
LOCATION:Bonnymuir Green Cafe\, Aberdeen
DTSTART:20260526T183000Z
DTEND:20260526T203000Z
ORGANIZER;CN=Cairngorm Club:mailto:adventure@cairngormclub.org.uk
END:VEVENT
END:VCALENDAR